0.0000089993
0.0000000000
0.0000000000
-0.0000089993
-80.5622840173
28.1127249820
