0.0000089993
0.0000000000
0.0000000000
-0.0000089993
-80.5522138229
28.0817764579
