0.0000089993
0.0000000000
0.0000000000
-0.0000089993
-80.5506659467
28.4578023758
