0.0000089993
0.0000000000
0.0000000000
-0.0000089993
-80.5503239741
28.5390748740
