0.0000089993
0.0000000000
0.0000000000
-0.0000089993
-80.5502429806
28.5546166306
