0.0000089993
0.0000000000
0.0000000000
-0.0000089993
-80.5421886249
28.0516018718
