0.0000089993
0.0000000000
0.0000000000
-0.0000089993
-80.5404877610
28.4487760979
