0.0000089993
0.0000000000
0.0000000000
-0.0000089993
-80.5404517639
28.4577933765
