0.0000089993
0.0000000000
0.0000000000
-0.0000089993
-80.5403347732
28.4848812094
