0.0000089993
0.0000000000
0.0000000000
-0.0000089993
-80.5402987761
28.4939074873
