0.0000089993
0.0000000000
0.0000000000
-0.0000089993
-80.5302915767
28.4397138229
