0.0000089993
0.0000000000
0.0000000000
-0.0000089993
-80.5302015839
28.4667926565
