0.0000089993
0.0000000000
0.0000000000
-0.0000089993
-80.5301565875
28.4758189344
