0.0000089993
0.0000000000
0.0000000000
-0.0000089993
-80.5300395968
28.4946004320
