0.0000089993
0.0000000000
0.0000000000
-0.0000089993
-80.5098452124
28.4396418287
