0.0000089993
0.0000000000
0.0000000000
-0.0000089993
-80.5098542117
28.4486681065
