0.0000089993
0.0000000000
0.0000000000
-0.0000089993
-80.9897588193
29.1987221022
