0.0000089993
0.0000000000
0.0000000000
-0.0000089993
-80.9612760979
29.1060925126
