0.0000089993
0.0000000000
0.0000000000
-0.0000089993
-80.9634899208
29.1265118790
