0.0000089993
0.0000000000
0.0000000000
-0.0000089993
-80.9692044636
29.1535997120
