0.0000089993
0.0000000000
0.0000000000
-0.0000089993
-80.9556425486
29.0904157667
