0.0000089993
0.0000000000
0.0000000000
-0.0000089993
-124.4328923686
42.3842242618
