0.0000089993
0.0000000000
0.0000000000
-0.0000089993
-124.4236771058
42.6481731459
