0.0000089993
0.0000000000
0.0000000000
-0.0000089993
-124.4942944564
43.0066954641
