0.0000089993
0.0000000000
0.0000000000
-0.0000089993
-124.4132739381
43.3516918644
