0.0000089993
0.0000000000
0.0000000000
-0.0000089993
-124.3903527718
43.3847912164
