0.0000089993
0.0000000000
0.0000000000
-0.0000089993
-124.2063174946
43.7757199421
