0.0000089993
0.0000000000
0.0000000000
-0.0000089993
-123.8878329734
45.5195014399
