0.0000089993
0.0000000000
0.0000000000
-0.0000089993
-124.1539326854
44.0878239738
