0.0000089993
0.0000000000
0.0000000000
-0.0000089993
-124.1444564435
44.1771328291
