0.0000089993
0.0000000000
0.0000000000
-0.0000089993
-124.1338642909
44.2223092150
