0.0000089993
0.0000000000
0.0000000000
-0.0000089993
-124.1317944564
44.2672876167
