0.0000089993
0.0000000000
0.0000000000
-0.0000089993
-124.1244510439
44.3575053993
