0.0000089993
0.0000000000
0.0000000000
-0.0000089993
-124.1125269978
44.4018808492
