0.0000089993
0.0000000000
0.0000000000
-0.0000089993
-124.1067494600
44.4462203021
