0.0000089993
0.0000000000
0.0000000000
-0.0000089993
-124.0938174946
44.6700323971
