0.0000089993
0.0000000000
0.0000000000
-0.0000089993
-124.0679445644
44.8492440602
