0.0000089993
0.0000000000
0.0000000000
-0.0000089993
-124.0364470842
44.9353131747
