0.0000089993
0.0000000000
0.0000000000
-0.0000089993
-124.0219402448
45.0248560112
