0.0000089993
0.0000000000
0.0000000000
-0.0000089993
-123.9852141829
45.1577123827
