0.0000089993
0.0000000000
0.0000000000
-0.0000089993
-123.9848182145
45.2935745137
