0.0000089993
0.0000000000
0.0000000000
-0.0000089993
-123.9996130310
45.3378689702
