0.0000089993
0.0000000000
0.0000000000
-0.0000089993
-123.9820284377
45.5540856729
