0.0000089993
0.0000000000
0.0000000000
-0.0000089993
-123.9866630670
45.9071994238
