0.0000089993
0.0000000000
0.0000000000
-0.0000089993
-123.9457523398
46.0752789774
