0.0000089993
0.0000000000
0.0000000000
-0.0000089993
-80.9683135349
31.9239110871
