0.0000089993
0.0000000000
0.0000000000
-0.0000089993
-80.9577483801
31.9058675305
