0.0000089993
0.0000000000
0.0000000000
-0.0000089993
-80.9237670986
31.9571904247
