0.0000089993
0.0000000000
0.0000000000
-0.0000089993
-80.9154067675
31.9419366450
