0.0000089993
0.0000000000
0.0000000000
-0.0000089993
-80.9048056156
31.9689884809
